BEGIN:VCALENDAR
PRODID:-//Pixl8//Eventfolio//EN
VERSION:2.0
X-WR-TIMEZONE:Europe/London
CALSCALE:GREGORIAN
METHOD:PUBLISH
CLASS:PUBLIC
BEGIN:VTIMEZONE
TZID:Europe/London
LAST-MODIFIED:20260306T231828Z
TZURL:https://www.tzurl.org/zoneinfo-outlook/Europe/London
X-LIC-LOCATION:Europe/London
BEGIN:DAYLIGHT
TZNAME:BST
TZOFFSETFROM:+0000
TZOFFSETTO:+0100
DTSTART:19700329T010000
RRULE:FREQ=YEARLY;BYMONTH=3;BYDAY=-1SU
END:DAYLIGHT
BEGIN:STANDARD
TZNAME:GMT
TZOFFSETFROM:+0100
TZOFFSETTO:+0000
DTSTART:19701025T020000
RRULE:FREQ=YEARLY;BYMONTH=10;BYDAY=-1SU
END:STANDARD
END:VTIMEZONE
BEGIN:VEVENT
DTSTART;TZID=Europe/London;VALUE=DATE:20201029
DTEND;TZID=Europe/London;VALUE=DATE:20201030
DTSTAMP:20260423T141659Z
UID:{1E28DEC8-1C5F-4487-B6BF7C112CFA7E2F}
LOCATION:Intensive Care Society\, 7-9 Breams Buildings
SUMMARY:ICS Education: Surgery for Intensivists
DESCRIPTION:Event details: https://ics.ac.uk/events/calendar/ics-education-surgery-for-intensivists-SURGERY20.html
PRIORITY:1
END:VEVENT
END:VCALENDAR