BEGIN:VCALENDAR
PRODID:-//Pixl8//Eventfolio//EN
VERSION:2.0
X-WR-TIMEZONE:Europe/London
CALSCALE:GREGORIAN
METHOD:PUBLISH
CLASS:PUBLIC
BEGIN:VTIMEZONE
TZID:Europe/London
LAST-MODIFIED:20260306T231828Z
TZURL:https://www.tzurl.org/zoneinfo-outlook/Europe/London
X-LIC-LOCATION:Europe/London
BEGIN:DAYLIGHT
TZNAME:BST
TZOFFSETFROM:+0000
TZOFFSETTO:+0100
DTSTART:19700329T010000
RRULE:FREQ=YEARLY;BYMONTH=3;BYDAY=-1SU
END:DAYLIGHT
BEGIN:STANDARD
TZNAME:GMT
TZOFFSETFROM:+0100
TZOFFSETTO:+0000
DTSTART:19701025T020000
RRULE:FREQ=YEARLY;BYMONTH=10;BYDAY=-1SU
END:STANDARD
END:VTIMEZONE
BEGIN:VEVENT
DTSTART;TZID=Europe/London:20200625T190000
DTEND;TZID=Europe/London:20200625T200000
DTSTAMP:20260423T180156Z
UID:{F6F9D5D1-7B34-4A80-8EB8CB6D807DF459}
LOCATION:
SUMMARY:ICS Education: Staff Wellbeing in ICU during the Pandemic
DESCRIPTION:Hearing staff stories from the front line, and making sense of the range of our emotional reactions to the pandemic.&#160;We will consider how staff feel about what next, how to take care of themselves and each other. You will also hear more about the ICS national wellbeing campaign.\n
 \n
 Event details: https://ics.ac.uk/events/calendar/ics-education-staff-wellbeing-in-icu-during-the-pandemic-WEBWELLBE.html
PRIORITY:1
END:VEVENT
END:VCALENDAR