BEGIN:VCALENDAR
PRODID:-//Pixl8//Eventfolio//EN
VERSION:2.0
X-WR-TIMEZONE:Europe/London
CALSCALE:GREGORIAN
METHOD:PUBLISH
CLASS:PUBLIC
BEGIN:VTIMEZONE
TZID:Europe/London
LAST-MODIFIED:20260306T231828Z
TZURL:https://www.tzurl.org/zoneinfo-outlook/Europe/London
X-LIC-LOCATION:Europe/London
BEGIN:DAYLIGHT
TZNAME:BST
TZOFFSETFROM:+0000
TZOFFSETTO:+0100
DTSTART:19700329T010000
RRULE:FREQ=YEARLY;BYMONTH=3;BYDAY=-1SU
END:DAYLIGHT
BEGIN:STANDARD
TZNAME:GMT
TZOFFSETFROM:+0100
TZOFFSETTO:+0000
DTSTART:19701025T020000
RRULE:FREQ=YEARLY;BYMONTH=10;BYDAY=-1SU
END:STANDARD
END:VTIMEZONE
BEGIN:VEVENT
DTSTART;TZID=Europe/London:20200924T190000
DTEND;TZID=Europe/London:20200924T200000
DTSTAMP:20260423T180153Z
UID:{A4389017-C73E-42A6-8410D380B57D1B6E}
LOCATION:
SUMMARY:ICS Education: Social Media in times of a Pandemic
DESCRIPTION:Social Media in times of a Pandemic: The Good, the bad, and the ugly.\n
 \n
 Event details: https://ics.ac.uk/events/calendar/ics-education-social-media-in-times-of-a-pandemic-ICSSOME.html
PRIORITY:1
END:VEVENT
END:VCALENDAR