BEGIN:VCALENDAR
PRODID:-//Pixl8//Eventfolio//EN
VERSION:2.0
X-WR-TIMEZONE:Europe/London
CALSCALE:GREGORIAN
METHOD:PUBLISH
CLASS:PUBLIC
BEGIN:VTIMEZONE
TZID:Europe/London
LAST-MODIFIED:20260306T231828Z
TZURL:https://www.tzurl.org/zoneinfo-outlook/Europe/London
X-LIC-LOCATION:Europe/London
BEGIN:DAYLIGHT
TZNAME:BST
TZOFFSETFROM:+0000
TZOFFSETTO:+0100
DTSTART:19700329T010000
RRULE:FREQ=YEARLY;BYMONTH=3;BYDAY=-1SU
END:DAYLIGHT
BEGIN:STANDARD
TZNAME:GMT
TZOFFSETFROM:+0100
TZOFFSETTO:+0000
DTSTART:19701025T020000
RRULE:FREQ=YEARLY;BYMONTH=10;BYDAY=-1SU
END:STANDARD
END:VTIMEZONE
BEGIN:VEVENT
DTSTART;TZID=Europe/London:20200709T190000
DTEND;TZID=Europe/London:20200709T200000
DTSTAMP:20260424T083957Z
UID:{99C35DCD-5043-44CF-9A1A3C4C2C7554F9}
LOCATION:
SUMMARY:ICS Education: Pandemics & Deemed Consent England
DESCRIPTION:This webinar will explore and explain the recent legislative change to&#160;organ donation consent in England, and the impact of the pandemic on the process and practise of organ donation and transplant in the UK.\n
 \n
 Event details: https://ics.ac.uk/events/calendar/ics-education-pandemics--deemed-consent-england-WEBLEGAL.html
PRIORITY:1
END:VEVENT
END:VCALENDAR