BEGIN:VCALENDAR
PRODID:-//Pixl8//Eventfolio//EN
VERSION:2.0
X-WR-TIMEZONE:Europe/London
CALSCALE:GREGORIAN
METHOD:PUBLISH
CLASS:PUBLIC
BEGIN:VTIMEZONE
TZID:Europe/London
LAST-MODIFIED:20260306T231828Z
TZURL:https://www.tzurl.org/zoneinfo-outlook/Europe/London
X-LIC-LOCATION:Europe/London
BEGIN:DAYLIGHT
TZNAME:BST
TZOFFSETFROM:+0000
TZOFFSETTO:+0100
DTSTART:19700329T010000
RRULE:FREQ=YEARLY;BYMONTH=3;BYDAY=-1SU
END:DAYLIGHT
BEGIN:STANDARD
TZNAME:GMT
TZOFFSETFROM:+0100
TZOFFSETTO:+0000
DTSTART:19701025T020000
RRULE:FREQ=YEARLY;BYMONTH=10;BYDAY=-1SU
END:STANDARD
END:VTIMEZONE
BEGIN:VEVENT
DTSTART;TZID=Europe/London;VALUE=DATE:20200312
DTEND;TZID=Europe/London;VALUE=DATE:20200313
DTSTAMP:20260423T141522Z
UID:{3C7FED95-9CFF-4327-BAE062DEB04E7910}
LOCATION:Intensive Care Society\, 7-9 Breams Buildings
SUMMARY:ICS Education: Mobilisation and Humanisation on ICU
DESCRIPTION:This event led by Dr Zudin Puthucheary (London) looks at new developments during and after an ICU admission and is designed for all staff caring for critically ill patients.\n
 \n
 Event details: https://ics.ac.uk/events/calendar/ics-education-mobilisation-and-humanisation-on-icu-REHAB20.html
PRIORITY:1
END:VEVENT
END:VCALENDAR