BEGIN:VCALENDAR
PRODID:-//Pixl8//Eventfolio//EN
VERSION:2.0
X-WR-TIMEZONE:Europe/London
CALSCALE:GREGORIAN
METHOD:PUBLISH
CLASS:PUBLIC
BEGIN:VTIMEZONE
TZID:Europe/London
LAST-MODIFIED:20260306T231828Z
TZURL:https://www.tzurl.org/zoneinfo-outlook/Europe/London
X-LIC-LOCATION:Europe/London
BEGIN:DAYLIGHT
TZNAME:BST
TZOFFSETFROM:+0000
TZOFFSETTO:+0100
DTSTART:19700329T010000
RRULE:FREQ=YEARLY;BYMONTH=3;BYDAY=-1SU
END:DAYLIGHT
BEGIN:STANDARD
TZNAME:GMT
TZOFFSETFROM:+0100
TZOFFSETTO:+0000
DTSTART:19701025T020000
RRULE:FREQ=YEARLY;BYMONTH=10;BYDAY=-1SU
END:STANDARD
END:VTIMEZONE
BEGIN:VEVENT
DTSTART;TZID=Europe/London:20200917T090000
DTEND;TZID=Europe/London:20200917T170000
DTSTAMP:20260423T232054Z
UID:{D01FB11B-A777-428A-B145EA7DFF38CF34}
LOCATION:Intensive Care Society\, 7-9 Breams Buildings
SUMMARY:ICS Education: Medicine for Intensivists
DESCRIPTION:Event details: https://ics.ac.uk/events/calendar/ics-education-medicine-for-intensivists-MEDICINE20.html
PRIORITY:1
END:VEVENT
END:VCALENDAR