BEGIN:VCALENDAR
PRODID:-//Pixl8//Eventfolio//EN
VERSION:2.0
X-WR-TIMEZONE:Europe/London
CALSCALE:GREGORIAN
METHOD:PUBLISH
CLASS:PUBLIC
BEGIN:VTIMEZONE
TZID:Europe/London
LAST-MODIFIED:20260306T231828Z
TZURL:https://www.tzurl.org/zoneinfo-outlook/Europe/London
X-LIC-LOCATION:Europe/London
BEGIN:DAYLIGHT
TZNAME:BST
TZOFFSETFROM:+0000
TZOFFSETTO:+0100
DTSTART:19700329T010000
RRULE:FREQ=YEARLY;BYMONTH=3;BYDAY=-1SU
END:DAYLIGHT
BEGIN:STANDARD
TZNAME:GMT
TZOFFSETFROM:+0100
TZOFFSETTO:+0000
DTSTART:19701025T020000
RRULE:FREQ=YEARLY;BYMONTH=10;BYDAY=-1SU
END:STANDARD
END:VTIMEZONE
BEGIN:VEVENT
DTSTART;TZID=Europe/London:20190923T090000
DTEND;TZID=Europe/London:20190923T170000
DTSTAMP:20260423T180113Z
UID:{D60B78A0-AA04-4A57-92B1B0C37114A85D}
LOCATION:Intensive Care Society\, 7-9 Breams Buildings
SUMMARY:ICS Education: Medicine for Intensivists
DESCRIPTION:Intensive Care has changed. Now more than ever, it is about the diagnosis and management of complex medical conditions rather than just organ support. This conference tells you the latest about the conditions which might put a patient ON intensive care, or which might afflict them whilst there. It is NOT intensive care management per se. The aim is for clinicians of all grades to understand the diseases they see on ICU: how they present, how to diagnose them, how they are investigated, and the tricks of treatment Costs: Consultant: &#163;195 member/ &#163;240 non member Trainee/SAS: &#163;120 member/ &#163;140 non-member AHP/Nurse: &#163;85 member/ &#163;99 non-member Student: &#163;40 member/ &#163;60 non-member\n
 \n
 Event details: https://ics.ac.uk/events/calendar/ics-education-medicine-for-intensivists-MEDICINE19.html
PRIORITY:1
END:VEVENT
END:VCALENDAR