BEGIN:VCALENDAR
PRODID:-//Pixl8//Eventfolio//EN
VERSION:2.0
X-WR-TIMEZONE:Europe/London
CALSCALE:GREGORIAN
METHOD:PUBLISH
CLASS:PUBLIC
BEGIN:VTIMEZONE
TZID:Europe/London
LAST-MODIFIED:20260306T231828Z
TZURL:https://www.tzurl.org/zoneinfo-outlook/Europe/London
X-LIC-LOCATION:Europe/London
BEGIN:DAYLIGHT
TZNAME:BST
TZOFFSETFROM:+0000
TZOFFSETTO:+0100
DTSTART:19700329T010000
RRULE:FREQ=YEARLY;BYMONTH=3;BYDAY=-1SU
END:DAYLIGHT
BEGIN:STANDARD
TZNAME:GMT
TZOFFSETFROM:+0100
TZOFFSETTO:+0000
DTSTART:19701025T020000
RRULE:FREQ=YEARLY;BYMONTH=10;BYDAY=-1SU
END:STANDARD
END:VTIMEZONE
BEGIN:VEVENT
DTSTART;TZID=Europe/London;VALUE=DATE:20200722
DTEND;TZID=Europe/London;VALUE=DATE:20200723
DTSTAMP:20260424T023233Z
UID:{8473C022-528B-46B0-8B4D5F4BB40155C5}
LOCATION:
SUMMARY:ICS Education: MDT Trauma Day
DESCRIPTION:This day covers the pathway of the critically ill trauma patient. Led by Dr Edward Dension-Davies (Preston) and featuring expert MDT speakers it is structured to inform all staff encountering trauma patients.\n
 \n
 Event details: https://ics.ac.uk/events/calendar/ics-education-mdt-trauma-day-NEURO20.html
PRIORITY:1
END:VEVENT
END:VCALENDAR