BEGIN:VCALENDAR
PRODID:-//Pixl8//Eventfolio//EN
VERSION:2.0
X-WR-TIMEZONE:Europe/London
CALSCALE:GREGORIAN
METHOD:PUBLISH
CLASS:PUBLIC
BEGIN:VTIMEZONE
TZID:Europe/London
LAST-MODIFIED:20260306T231828Z
TZURL:https://www.tzurl.org/zoneinfo-outlook/Europe/London
X-LIC-LOCATION:Europe/London
BEGIN:DAYLIGHT
TZNAME:BST
TZOFFSETFROM:+0000
TZOFFSETTO:+0100
DTSTART:19700329T010000
RRULE:FREQ=YEARLY;BYMONTH=3;BYDAY=-1SU
END:DAYLIGHT
BEGIN:STANDARD
TZNAME:GMT
TZOFFSETFROM:+0100
TZOFFSETTO:+0000
DTSTART:19701025T020000
RRULE:FREQ=YEARLY;BYMONTH=10;BYDAY=-1SU
END:STANDARD
END:VTIMEZONE
BEGIN:VEVENT
DTSTART;TZID=Europe/London:20200528T190000
DTEND;TZID=Europe/London:20200528T200000
DTSTAMP:20260424T022947Z
UID:{0E96E5F4-CB86-4C9F-BC57C8A7E2FD1E1B}
LOCATION:
SUMMARY:ICS Education: MDT Approach to Rehab Following Critical Care
DESCRIPTION:This webinar from the ICS will focus on the speakers’ recent experiences with acute PD in ICU.\n
 \n
 Event details: https://ics.ac.uk/events/calendar/ics-education-mdt-approach-to-rehab-following-critical-care-WEBREHAB.html
PRIORITY:1
END:VEVENT
END:VCALENDAR