BEGIN:VCALENDAR
PRODID:-//Pixl8//Eventfolio//EN
VERSION:2.0
X-WR-TIMEZONE:Europe/London
CALSCALE:GREGORIAN
METHOD:PUBLISH
CLASS:PUBLIC
BEGIN:VTIMEZONE
TZID:Europe/London
LAST-MODIFIED:20260306T231828Z
TZURL:https://www.tzurl.org/zoneinfo-outlook/Europe/London
X-LIC-LOCATION:Europe/London
BEGIN:DAYLIGHT
TZNAME:BST
TZOFFSETFROM:+0000
TZOFFSETTO:+0100
DTSTART:19700329T010000
RRULE:FREQ=YEARLY;BYMONTH=3;BYDAY=-1SU
END:DAYLIGHT
BEGIN:STANDARD
TZNAME:GMT
TZOFFSETFROM:+0100
TZOFFSETTO:+0000
DTSTART:19701025T020000
RRULE:FREQ=YEARLY;BYMONTH=10;BYDAY=-1SU
END:STANDARD
END:VTIMEZONE
BEGIN:VEVENT
DTSTART;TZID=Europe/London;VALUE=DATE:20190710
DTEND;TZID=Europe/London;VALUE=DATE:20190711
DTSTAMP:20260423T175802Z
UID:{67922C66-B52B-4288-87D06B3EDBEB3CB3}
LOCATION:Intensive Care Society\, 7-9 Breams Buildings
SUMMARY:ICS Education: Maternal Critical Care
DESCRIPTION:Our pregnant women are getting older, larger and sicker. We have set up a seminar on the common issues that lead to critical care admission and also focus on how to set up a service for the whole team based on recent standards and guidelines. We have invited enthusiasts from around the country from all disciplines with experience, advice and tips on how to organise the best quality care within current hospital resources. Hope to see you there and bring your midwifery and obstetric colleagues too!\n
 \n
 Event details: https://ics.ac.uk/events/calendar/ics-education-maternal-critical-care-OBST2019.html
PRIORITY:1
END:VEVENT
END:VCALENDAR