BEGIN:VCALENDAR
PRODID:-//Pixl8//Eventfolio//EN
VERSION:2.0
X-WR-TIMEZONE:Europe/London
CALSCALE:GREGORIAN
METHOD:PUBLISH
CLASS:PUBLIC
BEGIN:VTIMEZONE
TZID:Europe/London
LAST-MODIFIED:20260306T231828Z
TZURL:https://www.tzurl.org/zoneinfo-outlook/Europe/London
X-LIC-LOCATION:Europe/London
BEGIN:DAYLIGHT
TZNAME:BST
TZOFFSETFROM:+0000
TZOFFSETTO:+0100
DTSTART:19700329T010000
RRULE:FREQ=YEARLY;BYMONTH=3;BYDAY=-1SU
END:DAYLIGHT
BEGIN:STANDARD
TZNAME:GMT
TZOFFSETFROM:+0100
TZOFFSETTO:+0000
DTSTART:19701025T020000
RRULE:FREQ=YEARLY;BYMONTH=10;BYDAY=-1SU
END:STANDARD
END:VTIMEZONE
BEGIN:VEVENT
DTSTART;TZID=Europe/London:20210427T193000
DTEND;TZID=Europe/London:20210427T203000
DTSTAMP:20260423T180026Z
UID:{875706C8-A8FC-40F8-84CD7CC7E8DF07DD}
LOCATION:
SUMMARY:ICS Education: Making time for Care on the ICU
DESCRIPTION:This webinar will focus on ways to improve patients safety on the ICU, how to save time for nurses and improving patient care on the ICU. Attendees will have the opportunity to ask speakers questions and learn from their clinical experiences. There will be four presentations. Each presentation will last 10 minutes and followed by a Q&amp;A. This webinar is supported by an educational grant from Sintetica.\n
 \n
 Event details: https://ics.ac.uk/events/calendar/ics-education-making-time-for-care-on-the-icu-WEBSIN2704.html
PRIORITY:1
END:VEVENT
END:VCALENDAR