BEGIN:VCALENDAR
PRODID:-//Pixl8//Eventfolio//EN
VERSION:2.0
X-WR-TIMEZONE:Europe/London
CALSCALE:GREGORIAN
METHOD:PUBLISH
CLASS:PUBLIC
BEGIN:VTIMEZONE
TZID:Europe/London
LAST-MODIFIED:20260306T231828Z
TZURL:https://www.tzurl.org/zoneinfo-outlook/Europe/London
X-LIC-LOCATION:Europe/London
BEGIN:DAYLIGHT
TZNAME:BST
TZOFFSETFROM:+0000
TZOFFSETTO:+0100
DTSTART:19700329T010000
RRULE:FREQ=YEARLY;BYMONTH=3;BYDAY=-1SU
END:DAYLIGHT
BEGIN:STANDARD
TZNAME:GMT
TZOFFSETFROM:+0100
TZOFFSETTO:+0000
DTSTART:19701025T020000
RRULE:FREQ=YEARLY;BYMONTH=10;BYDAY=-1SU
END:STANDARD
END:VTIMEZONE
BEGIN:VEVENT
DTSTART;TZID=Europe/London;VALUE=DATE:20200219
DTEND;TZID=Europe/London;VALUE=DATE:20200220
DTSTAMP:20260423T175843Z
UID:{1F217B6E-B8BD-4988-8F89A89423EF5C23}
LOCATION:Intensive Care Society\, 7-9 Breams Buildings
SUMMARY:ICS Education: Liver and Nutrition
DESCRIPTION:A general multidisciplinary look at nutrition in the critically ill patient and an insight into how liver disease is managed at both specialist and general centres. Led by Dr Mansoor Bangash (Birmingham) and delivered by host of MDT experts.\n
 \n
 Event details: https://ics.ac.uk/events/calendar/ics-education-liver-and-nutrition-LIVER20.html
PRIORITY:1
END:VEVENT
END:VCALENDAR