BEGIN:VCALENDAR
PRODID:-//Pixl8//Eventfolio//EN
VERSION:2.0
X-WR-TIMEZONE:Europe/London
CALSCALE:GREGORIAN
METHOD:PUBLISH
CLASS:PUBLIC
BEGIN:VTIMEZONE
TZID:Europe/London
LAST-MODIFIED:20260306T231828Z
TZURL:https://www.tzurl.org/zoneinfo-outlook/Europe/London
X-LIC-LOCATION:Europe/London
BEGIN:DAYLIGHT
TZNAME:BST
TZOFFSETFROM:+0000
TZOFFSETTO:+0100
DTSTART:19700329T010000
RRULE:FREQ=YEARLY;BYMONTH=3;BYDAY=-1SU
END:DAYLIGHT
BEGIN:STANDARD
TZNAME:GMT
TZOFFSETFROM:+0100
TZOFFSETTO:+0000
DTSTART:19701025T020000
RRULE:FREQ=YEARLY;BYMONTH=10;BYDAY=-1SU
END:STANDARD
END:VTIMEZONE
BEGIN:VEVENT
DTSTART;TZID=Europe/London;VALUE=DATE:20200617
DTEND;TZID=Europe/London;VALUE=DATE:20200618
DTSTAMP:20260424T042957Z
UID:{23EC28A6-6203-4E67-B8A50ECA19C5BB67}
LOCATION:
SUMMARY:ICS Education: Legal and Ethical
DESCRIPTION:Led by Dr Nitin Arora, the ICS is bringing you a full day dedicated to looking in to the legal and ethical challenges that the whole multidisciplinary critical care team face on a regular basis. The programme will bring together clinicians, legal professions and patients.\n
 \n
 Event details: https://ics.ac.uk/events/calendar/ics-education-legal-and-ethical-LEGAL20.html
PRIORITY:1
END:VEVENT
END:VCALENDAR