BEGIN:VCALENDAR
PRODID:-//Pixl8//Eventfolio//EN
VERSION:2.0
X-WR-TIMEZONE:Europe/London
CALSCALE:GREGORIAN
METHOD:PUBLISH
CLASS:PUBLIC
BEGIN:VTIMEZONE
TZID:Europe/London
LAST-MODIFIED:20260306T231828Z
TZURL:https://www.tzurl.org/zoneinfo-outlook/Europe/London
X-LIC-LOCATION:Europe/London
BEGIN:DAYLIGHT
TZNAME:BST
TZOFFSETFROM:+0000
TZOFFSETTO:+0100
DTSTART:19700329T010000
RRULE:FREQ=YEARLY;BYMONTH=3;BYDAY=-1SU
END:DAYLIGHT
BEGIN:STANDARD
TZNAME:GMT
TZOFFSETFROM:+0100
TZOFFSETTO:+0000
DTSTART:19701025T020000
RRULE:FREQ=YEARLY;BYMONTH=10;BYDAY=-1SU
END:STANDARD
END:VTIMEZONE
BEGIN:VEVENT
DTSTART;TZID=Europe/London:20210204T190000
DTEND;TZID=Europe/London:20210204T200000
DTSTAMP:20260423T175740Z
UID:{A35D72D6-7303-4945-B85D07D687911F13}
LOCATION:
SUMMARY:ICS Education: IV Fluids - turning the tide
DESCRIPTION:Understanding of fluid management has improved significantly over the last few years. Those of us who work in critical care are supposed to be experts in the field but much of the physiology and practical management we were taught in the past is just plain wrong. Join us to get updated in topics such as the glycocalyx, where fluid actually goes when you give it, the importance of venous congestion, and what &#39;goal directed therapy&#39; should should actually be. Find out where we went wrong, make sure your practice is evidence based and find out how to implement changes in your hospital.\n
 \n
 Event details: https://ics.ac.uk/events/calendar/ics-education-iv-fluids---turning-the-tide-WEBFLUID.html
PRIORITY:1
END:VEVENT
END:VCALENDAR