BEGIN:VCALENDAR
PRODID:-//Pixl8//Eventfolio//EN
VERSION:2.0
X-WR-TIMEZONE:Europe/London
CALSCALE:GREGORIAN
METHOD:PUBLISH
CLASS:PUBLIC
BEGIN:VTIMEZONE
TZID:Europe/London
LAST-MODIFIED:20260306T231828Z
TZURL:https://www.tzurl.org/zoneinfo-outlook/Europe/London
X-LIC-LOCATION:Europe/London
BEGIN:DAYLIGHT
TZNAME:BST
TZOFFSETFROM:+0000
TZOFFSETTO:+0100
DTSTART:19700329T010000
RRULE:FREQ=YEARLY;BYMONTH=3;BYDAY=-1SU
END:DAYLIGHT
BEGIN:STANDARD
TZNAME:GMT
TZOFFSETFROM:+0100
TZOFFSETTO:+0000
DTSTART:19701025T020000
RRULE:FREQ=YEARLY;BYMONTH=10;BYDAY=-1SU
END:STANDARD
END:VTIMEZONE
BEGIN:VEVENT
DTSTART;TZID=Europe/London:20201022T190000
DTEND;TZID=Europe/London:20201022T200000
DTSTAMP:20260423T180000Z
UID:{2AA160B8-B454-4C4A-8063196163F7D213}
LOCATION:
SUMMARY:ICS Education: Improving AKI outcomes in critical care
DESCRIPTION:This webinar will emphasise that a lot can be done when managing patients with AKI, in particular in the areas of diagnosis, management and follow-up.\n
 \n
 Event details: https://ics.ac.uk/events/calendar/ics-education-improving-aki-outcomes-in-critical-care-WEBAKI.html
PRIORITY:1
END:VEVENT
END:VCALENDAR