BEGIN:VCALENDAR
PRODID:-//Pixl8//Eventfolio//EN
VERSION:2.0
X-WR-TIMEZONE:Europe/London
CALSCALE:GREGORIAN
METHOD:PUBLISH
CLASS:PUBLIC
BEGIN:VTIMEZONE
TZID:Europe/London
LAST-MODIFIED:20260306T231828Z
TZURL:https://www.tzurl.org/zoneinfo-outlook/Europe/London
X-LIC-LOCATION:Europe/London
BEGIN:DAYLIGHT
TZNAME:BST
TZOFFSETFROM:+0000
TZOFFSETTO:+0100
DTSTART:19700329T010000
RRULE:FREQ=YEARLY;BYMONTH=3;BYDAY=-1SU
END:DAYLIGHT
BEGIN:STANDARD
TZNAME:GMT
TZOFFSETFROM:+0100
TZOFFSETTO:+0000
DTSTART:19701025T020000
RRULE:FREQ=YEARLY;BYMONTH=10;BYDAY=-1SU
END:STANDARD
END:VTIMEZONE
BEGIN:VEVENT
DTSTART;TZID=Europe/London:20210429T190000
DTEND;TZID=Europe/London:20210429T200000
DTSTAMP:20260423T180028Z
UID:{0712E2A8-85C8-4853-89D91181D8BEF5BD}
LOCATION:
SUMMARY:ICS Education: Haematology for Intensive Care
DESCRIPTION:Join us for a webinar looking at several haematology themed topics relevant to intensive care. During the webinar Professor Matthew Collin will discuss hemophagocytic lymphohistiocytosis, Specialist Nurse Hannah Kennedy will talk about CAR-T therapy and Dr Suzy O’Neill will focus on difficult decision making and admission to Critical Care. There will be plenty to discuss and we look forward to an interesting and informative evening.\n
 \n
 Event details: https://ics.ac.uk/events/calendar/ics-education-haematology-for-intensive-care-WEBHAEMATO.html
PRIORITY:1
END:VEVENT
END:VCALENDAR