BEGIN:VCALENDAR
PRODID:-//Pixl8//Eventfolio//EN
VERSION:2.0
X-WR-TIMEZONE:Europe/London
CALSCALE:GREGORIAN
METHOD:PUBLISH
CLASS:PUBLIC
BEGIN:VTIMEZONE
TZID:Europe/London
LAST-MODIFIED:20260306T231828Z
TZURL:https://www.tzurl.org/zoneinfo-outlook/Europe/London
X-LIC-LOCATION:Europe/London
BEGIN:DAYLIGHT
TZNAME:BST
TZOFFSETFROM:+0000
TZOFFSETTO:+0100
DTSTART:19700329T010000
RRULE:FREQ=YEARLY;BYMONTH=3;BYDAY=-1SU
END:DAYLIGHT
BEGIN:STANDARD
TZNAME:GMT
TZOFFSETFROM:+0100
TZOFFSETTO:+0000
DTSTART:19701025T020000
RRULE:FREQ=YEARLY;BYMONTH=10;BYDAY=-1SU
END:STANDARD
END:VTIMEZONE
BEGIN:VEVENT
DTSTART;TZID=Europe/London:20201210T190000
DTEND;TZID=Europe/London:20201210T200000
DTSTAMP:20260423T141303Z
UID:{96CBD993-7620-45B3-BDACA8B22E054F4C}
LOCATION:
SUMMARY:ICS Education: Death Reporting During COVID-19
DESCRIPTION:ICS Education: Death reporting during COVID-19 and The Medical Examiner &amp; Coroner role.\n
 \n
 Event details: https://ics.ac.uk/events/calendar/ics-education-death-reporting-during-covid-19-WEBLEAGDEA.html
PRIORITY:1
END:VEVENT
END:VCALENDAR