BEGIN:VCALENDAR
PRODID:-//Pixl8//Eventfolio//EN
VERSION:2.0
X-WR-TIMEZONE:Europe/London
CALSCALE:GREGORIAN
METHOD:PUBLISH
CLASS:PUBLIC
BEGIN:VTIMEZONE
TZID:Europe/London
LAST-MODIFIED:20260306T231828Z
TZURL:https://www.tzurl.org/zoneinfo-outlook/Europe/London
X-LIC-LOCATION:Europe/London
BEGIN:DAYLIGHT
TZNAME:BST
TZOFFSETFROM:+0000
TZOFFSETTO:+0100
DTSTART:19700329T010000
RRULE:FREQ=YEARLY;BYMONTH=3;BYDAY=-1SU
END:DAYLIGHT
BEGIN:STANDARD
TZNAME:GMT
TZOFFSETFROM:+0100
TZOFFSETTO:+0000
DTSTART:19701025T020000
RRULE:FREQ=YEARLY;BYMONTH=10;BYDAY=-1SU
END:STANDARD
END:VTIMEZONE
BEGIN:VEVENT
DTSTART;TZID=Europe/London:20210525T190000
DTEND;TZID=Europe/London:20210525T200000
DTSTAMP:20260424T043832Z
UID:{6C98E6A9-2FF0-40EF-A6F73E0C47C7F0C9}
LOCATION:
SUMMARY:ICS Education: Critical Illness and Clinical Applications
DESCRIPTION:Pharmaceutical Press, the knowledge business of the Royal Pharmaceutical Society, launched its brand new resource,&#160;Critical Illness, on their digital MedicinesComplete platform in January 2021. The aim of&#160;Critical Illness&#160;is to provide dynamic evidence-based prescribing information to support the clinician at the patient bedside in using drugs safely and effectively in the Intensive Care Unit.\n
 \n
 Event details: https://ics.ac.uk/events/calendar/ics-education-critical-illness-and-clinical-applications-WEBCRITIC.html
PRIORITY:1
END:VEVENT
END:VCALENDAR