BEGIN:VCALENDAR
PRODID:-//Pixl8//Eventfolio//EN
VERSION:2.0
X-WR-TIMEZONE:Europe/London
CALSCALE:GREGORIAN
METHOD:PUBLISH
CLASS:PUBLIC
BEGIN:VTIMEZONE
TZID:Europe/London
LAST-MODIFIED:20260306T231828Z
TZURL:https://www.tzurl.org/zoneinfo-outlook/Europe/London
X-LIC-LOCATION:Europe/London
BEGIN:DAYLIGHT
TZNAME:BST
TZOFFSETFROM:+0000
TZOFFSETTO:+0100
DTSTART:19700329T010000
RRULE:FREQ=YEARLY;BYMONTH=3;BYDAY=-1SU
END:DAYLIGHT
BEGIN:STANDARD
TZNAME:GMT
TZOFFSETFROM:+0100
TZOFFSETTO:+0000
DTSTART:19701025T020000
RRULE:FREQ=YEARLY;BYMONTH=10;BYDAY=-1SU
END:STANDARD
END:VTIMEZONE
BEGIN:VEVENT
DTSTART;TZID=Europe/London:20210114T190000
DTEND;TZID=Europe/London:20210114T200000
DTSTAMP:20260423T232239Z
UID:{6FF20528-C502-4E65-9F28B49C301B4785}
LOCATION:
SUMMARY:ICS Education: COVID-ICU National Service Evaluation
DESCRIPTION:This webinar will discuss various aspects of ARDS management; how we can homogenise and improve management and what the plans are to evolve this dataset into clinical decision support that has real, effective and immediate clinical impact given the urgent nature.\n
 \n
 Event details: https://ics.ac.uk/events/calendar/ics-education-covid-icu-national-service-evaluation-WEBNATSERV.html
PRIORITY:1
END:VEVENT
END:VCALENDAR