BEGIN:VCALENDAR
PRODID:-//Pixl8//Eventfolio//EN
VERSION:2.0
X-WR-TIMEZONE:Europe/London
CALSCALE:GREGORIAN
METHOD:PUBLISH
CLASS:PUBLIC
BEGIN:VTIMEZONE
TZID:Europe/London
LAST-MODIFIED:20260306T231828Z
TZURL:https://www.tzurl.org/zoneinfo-outlook/Europe/London
X-LIC-LOCATION:Europe/London
BEGIN:DAYLIGHT
TZNAME:BST
TZOFFSETFROM:+0000
TZOFFSETTO:+0100
DTSTART:19700329T010000
RRULE:FREQ=YEARLY;BYMONTH=3;BYDAY=-1SU
END:DAYLIGHT
BEGIN:STANDARD
TZNAME:GMT
TZOFFSETFROM:+0100
TZOFFSETTO:+0000
DTSTART:19701025T020000
RRULE:FREQ=YEARLY;BYMONTH=10;BYDAY=-1SU
END:STANDARD
END:VTIMEZONE
BEGIN:VEVENT
DTSTART;TZID=Europe/London:20200604T190000
DTEND;TZID=Europe/London:20200604T200000
DTSTAMP:20260423T111120Z
UID:{6C4E3EB9-B077-4D30-B757F50BAFD412B4}
LOCATION:
SUMMARY:ICS Education: COVID-19 Research Studies
DESCRIPTION:This webinar from the ICS will focus on new studies within COVID-19 research.\n
 \n
 Event details: https://ics.ac.uk/events/calendar/ics-education-covid-19-research-studies-ICSTRACH.html
PRIORITY:1
END:VEVENT
END:VCALENDAR