BEGIN:VCALENDAR
PRODID:-//Pixl8//Eventfolio//EN
VERSION:2.0
X-WR-TIMEZONE:Europe/London
CALSCALE:GREGORIAN
METHOD:PUBLISH
CLASS:PUBLIC
BEGIN:VTIMEZONE
TZID:Europe/London
LAST-MODIFIED:20260306T231828Z
TZURL:https://www.tzurl.org/zoneinfo-outlook/Europe/London
X-LIC-LOCATION:Europe/London
BEGIN:DAYLIGHT
TZNAME:BST
TZOFFSETFROM:+0000
TZOFFSETTO:+0100
DTSTART:19700329T010000
RRULE:FREQ=YEARLY;BYMONTH=3;BYDAY=-1SU
END:DAYLIGHT
BEGIN:STANDARD
TZNAME:GMT
TZOFFSETFROM:+0100
TZOFFSETTO:+0000
DTSTART:19701025T020000
RRULE:FREQ=YEARLY;BYMONTH=10;BYDAY=-1SU
END:STANDARD
END:VTIMEZONE
BEGIN:VEVENT
DTSTART;TZID=Europe/London:20200723T190000
DTEND;TZID=Europe/London:20200723T200000
DTSTAMP:20260423T175959Z
UID:{EE3200FB-DFD9-4098-99398CDC9A089BB0}
LOCATION:
SUMMARY:ICS Education: Caring for Critically Ill Obstetric Patients
DESCRIPTION:The webinar will cover tips for looking after obstetric patients requiring admission to critical care, recognising who needs to be admitted, management of the obstetric patients with COVID-19.\n
 \n
 Event details: https://ics.ac.uk/events/calendar/ics-education-caring-for-critically-ill-obstetric-patients-WEBOCC.html
PRIORITY:1
END:VEVENT
END:VCALENDAR