BEGIN:VCALENDAR
PRODID:-//Pixl8//Eventfolio//EN
VERSION:2.0
X-WR-TIMEZONE:Europe/London
CALSCALE:GREGORIAN
METHOD:PUBLISH
CLASS:PUBLIC
BEGIN:VTIMEZONE
TZID:Europe/London
LAST-MODIFIED:20260306T231828Z
TZURL:https://www.tzurl.org/zoneinfo-outlook/Europe/London
X-LIC-LOCATION:Europe/London
BEGIN:DAYLIGHT
TZNAME:BST
TZOFFSETFROM:+0000
TZOFFSETTO:+0100
DTSTART:19700329T010000
RRULE:FREQ=YEARLY;BYMONTH=3;BYDAY=-1SU
END:DAYLIGHT
BEGIN:STANDARD
TZNAME:GMT
TZOFFSETFROM:+0100
TZOFFSETTO:+0000
DTSTART:19701025T020000
RRULE:FREQ=YEARLY;BYMONTH=10;BYDAY=-1SU
END:STANDARD
END:VTIMEZONE
BEGIN:VEVENT
DTSTART;TZID=Europe/London:20211123T190000
DTEND;TZID=Europe/London:20211123T200000
DTSTAMP:20260423T141151Z
UID:{4A83C789-76CA-495A-9D0CCCC94FA027E3}
LOCATION:
SUMMARY:ICS Education: Antimicrobials Handle with Care
DESCRIPTION:Join our latest ICS Education webinar during World Antimicrobial Awareness (18 - 24 November) week focusing on antimicrobial decision making in Intensive Care.\n
 \n
 Event details: https://ics.ac.uk/events/calendar/ics-education-antimicrobials-handle-with-care-ANTIMICRO1.html
PRIORITY:1
END:VEVENT
END:VCALENDAR