BEGIN:VCALENDAR
PRODID:-//Pixl8//Eventfolio//EN
VERSION:2.0
X-WR-TIMEZONE:Europe/London
CALSCALE:GREGORIAN
METHOD:PUBLISH
CLASS:PUBLIC
BEGIN:VTIMEZONE
TZID:Europe/London
LAST-MODIFIED:20260306T231828Z
TZURL:https://www.tzurl.org/zoneinfo-outlook/Europe/London
X-LIC-LOCATION:Europe/London
BEGIN:DAYLIGHT
TZNAME:BST
TZOFFSETFROM:+0000
TZOFFSETTO:+0100
DTSTART:19700329T010000
RRULE:FREQ=YEARLY;BYMONTH=3;BYDAY=-1SU
END:DAYLIGHT
BEGIN:STANDARD
TZNAME:GMT
TZOFFSETFROM:+0100
TZOFFSETTO:+0000
DTSTART:19701025T020000
RRULE:FREQ=YEARLY;BYMONTH=10;BYDAY=-1SU
END:STANDARD
END:VTIMEZONE
BEGIN:VEVENT
DTSTART;TZID=Europe/London:20201105T190000
DTEND;TZID=Europe/London:20201105T200000
DTSTAMP:20260423T141425Z
UID:{37B3F90A-F3B3-4CD4-B8545351A516070A}
LOCATION:
SUMMARY:ICS Education: Antimicrobial Stewardship in Intensive Care
DESCRIPTION:Topics include: How we rationalised Antimicrobial use in Intensive Care; Antimicrobial use in COVID ICU Topic and Management of infections in patients undergoing ECMO; the Wythenshawe experience.\n
 \n
 Event details: https://ics.ac.uk/events/calendar/ics-education-antimicrobial-stewardship-in-intensive-care-WEBSTEWARD.html
PRIORITY:1
END:VEVENT
END:VCALENDAR