BEGIN:VCALENDAR
PRODID:-//Pixl8//Eventfolio//EN
VERSION:2.0
X-WR-TIMEZONE:Europe/London
CALSCALE:GREGORIAN
METHOD:PUBLISH
CLASS:PUBLIC
BEGIN:VTIMEZONE
TZID:Europe/London
LAST-MODIFIED:20260306T231828Z
TZURL:https://www.tzurl.org/zoneinfo-outlook/Europe/London
X-LIC-LOCATION:Europe/London
BEGIN:DAYLIGHT
TZNAME:BST
TZOFFSETFROM:+0000
TZOFFSETTO:+0100
DTSTART:19700329T010000
RRULE:FREQ=YEARLY;BYMONTH=3;BYDAY=-1SU
END:DAYLIGHT
BEGIN:STANDARD
TZNAME:GMT
TZOFFSETFROM:+0100
TZOFFSETTO:+0000
DTSTART:19701025T020000
RRULE:FREQ=YEARLY;BYMONTH=10;BYDAY=-1SU
END:STANDARD
END:VTIMEZONE
BEGIN:VEVENT
DTSTART;TZID=Europe/London:20210218T190000
DTEND;TZID=Europe/London:20210218T200000
DTSTAMP:20260424T023232Z
UID:{433EDF37-6D10-4288-B034610B7DDEF581}
LOCATION:
SUMMARY:ICS Education: Animal Assisted Intervention in Critical Care
DESCRIPTION:Animal assisted intervention is a vital part of humanisation of critical care. Patients regularly describe the positive impact of having one of the therapy team visit them in hospital; and we often hear how staff also find the visits uplifting and they want to be on shift when it’s therapy dog visit day.&#160; During the pandemic patient isolation has been a significant concern, not just from family and friends but also from our therapy teams.&#160; Join us as we discuss the positive impact AAI has on patients and staff, how we have developed new ways of interacting with therapy teams during COVID, and lastly just to catch up with some of the furry stars of AAI.\n
 \n
 Event details: https://ics.ac.uk/events/calendar/ics-education-animal-assisted-intervention-in-critical-care-WEBAAI.html
PRIORITY:1
END:VEVENT
END:VCALENDAR