BEGIN:VCALENDAR
PRODID:-//Pixl8//Eventfolio//EN
VERSION:2.0
X-WR-TIMEZONE:Europe/London
CALSCALE:GREGORIAN
METHOD:PUBLISH
CLASS:PUBLIC
BEGIN:VTIMEZONE
TZID:Europe/London
LAST-MODIFIED:20260306T231828Z
TZURL:https://www.tzurl.org/zoneinfo-outlook/Europe/London
X-LIC-LOCATION:Europe/London
BEGIN:DAYLIGHT
TZNAME:BST
TZOFFSETFROM:+0000
TZOFFSETTO:+0100
DTSTART:19700329T010000
RRULE:FREQ=YEARLY;BYMONTH=3;BYDAY=-1SU
END:DAYLIGHT
BEGIN:STANDARD
TZNAME:GMT
TZOFFSETFROM:+0100
TZOFFSETTO:+0000
DTSTART:19701025T020000
RRULE:FREQ=YEARLY;BYMONTH=10;BYDAY=-1SU
END:STANDARD
END:VTIMEZONE
BEGIN:VEVENT
DTSTART;TZID=Europe/London:20201020T183000
DTEND;TZID=Europe/London:20201020T200000
DTSTAMP:20260424T043338Z
UID:{9EA30F2A-4F08-4F28-810DCDC868F58B94}
LOCATION:
SUMMARY:ICS Awards 2020
DESCRIPTION:We are happy to be announcing the winners of the ICS Awards 2020 celebrating excellence within our profession.\n
 \n
 Event details: https://ics.ac.uk/events/calendar/ics-awards-2020-WEBAWARDS.html
PRIORITY:1
END:VEVENT
END:VCALENDAR