BEGIN:VCALENDAR
PRODID:-//Pixl8//Eventfolio//EN
VERSION:2.0
X-WR-TIMEZONE:Europe/London
CALSCALE:GREGORIAN
METHOD:PUBLISH
CLASS:PUBLIC
BEGIN:VTIMEZONE
TZID:Europe/London
LAST-MODIFIED:20260306T231828Z
TZURL:https://www.tzurl.org/zoneinfo-outlook/Europe/London
X-LIC-LOCATION:Europe/London
BEGIN:DAYLIGHT
TZNAME:BST
TZOFFSETFROM:+0000
TZOFFSETTO:+0100
DTSTART:19700329T010000
RRULE:FREQ=YEARLY;BYMONTH=3;BYDAY=-1SU
END:DAYLIGHT
BEGIN:STANDARD
TZNAME:GMT
TZOFFSETFROM:+0100
TZOFFSETTO:+0000
DTSTART:19701025T020000
RRULE:FREQ=YEARLY;BYMONTH=10;BYDAY=-1SU
END:STANDARD
END:VTIMEZONE
BEGIN:VEVENT
DTSTART;TZID=Europe/London;VALUE=DATE:20180921
DTEND;TZID=Europe/London;VALUE=DATE:20180922
DTSTAMP:20260423T140546Z
UID:{4E0B4AA9-52AB-4821-B95C89AB9216E715}
LOCATION:
SUMMARY:ICS ARDS Symposium
DESCRIPTION:This seminar will be clinically based and will outline recent advances in the management of ARDS.\n
 \n
 Event details: https://ics.ac.uk/events/calendar/ics-ards-symposium-ARDS210918.html
PRIORITY:1
END:VEVENT
END:VCALENDAR