BEGIN:VCALENDAR
PRODID:-//Pixl8//Eventfolio//EN
VERSION:2.0
X-WR-TIMEZONE:Europe/London
CALSCALE:GREGORIAN
METHOD:PUBLISH
CLASS:PUBLIC
BEGIN:VTIMEZONE
TZID:Europe/London
LAST-MODIFIED:20260306T231828Z
TZURL:https://www.tzurl.org/zoneinfo-outlook/Europe/London
X-LIC-LOCATION:Europe/London
BEGIN:DAYLIGHT
TZNAME:BST
TZOFFSETFROM:+0000
TZOFFSETTO:+0100
DTSTART:19700329T010000
RRULE:FREQ=YEARLY;BYMONTH=3;BYDAY=-1SU
END:DAYLIGHT
BEGIN:STANDARD
TZNAME:GMT
TZOFFSETFROM:+0100
TZOFFSETTO:+0000
DTSTART:19701025T020000
RRULE:FREQ=YEARLY;BYMONTH=10;BYDAY=-1SU
END:STANDARD
END:VTIMEZONE
BEGIN:VEVENT
DTSTART;TZID=Europe/London;VALUE=DATE:20171012
DTEND;TZID=Europe/London;VALUE=DATE:20171013
DTSTAMP:20260423T175843Z
UID:{18F6FEC6-C4B6-4993-9E1B5A8EBC6A7027}
LOCATION:Intensive Care Society\, 7-9 Breams Buildings
SUMMARY:ICM Career Day
DESCRIPTION:This one-day meeting is suitable for medical students and junior trainees who have an interest in Intensive Care Medicine (ICM) and would like to investigate this further. \n
 \n
 \n
 \n
 \n
 \n
 The day should provide those that attend with a greater understanding of who intensivists are and what they do.\n
 \n
 Sessions include covering the background to ICM development as a specialty, what a career in ICM may entail and the exciting opportunities that the career can present.\n
 \n
 \n
 \n
 There is even an introduction to some of the ethical considerations that are encountered as well as how intensivists manage their work-life balance.\n
 \n
 Event details: https://ics.ac.uk/events/calendar/icm-career-day-SEM121017.html
PRIORITY:1
END:VEVENT
END:VCALENDAR