BEGIN:VCALENDAR
PRODID:-//Pixl8//Eventfolio//EN
VERSION:2.0
X-WR-TIMEZONE:Europe/London
CALSCALE:GREGORIAN
METHOD:PUBLISH
CLASS:PUBLIC
BEGIN:VTIMEZONE
TZID:Europe/London
LAST-MODIFIED:20260306T231828Z
TZURL:https://www.tzurl.org/zoneinfo-outlook/Europe/London
X-LIC-LOCATION:Europe/London
BEGIN:DAYLIGHT
TZNAME:BST
TZOFFSETFROM:+0000
TZOFFSETTO:+0100
DTSTART:19700329T010000
RRULE:FREQ=YEARLY;BYMONTH=3;BYDAY=-1SU
END:DAYLIGHT
BEGIN:STANDARD
TZNAME:GMT
TZOFFSETFROM:+0100
TZOFFSETTO:+0000
DTSTART:19701025T020000
RRULE:FREQ=YEARLY;BYMONTH=10;BYDAY=-1SU
END:STANDARD
END:VTIMEZONE
BEGIN:VEVENT
DTSTART;TZID=Europe/London:20210610T190000
DTEND;TZID=Europe/London:20210610T200000
DTSTAMP:20260423T180025Z
UID:{AC160820-686E-43A9-B890D8D438DBEBE2}
LOCATION:
SUMMARY:FUSIC HD - complete haemodynamic assessment with ultrasound
DESCRIPTION:Haemodynamic assessment with ultrasound? FUSIC HD? What is all the fuss about? The guys behind ICS’s latest ultrasound training module will explain all in this interactive webinar. Ashley and Marcus will breakdown what’s in and what’s out. And, more importantly, why.\n
 \n
 Event details: https://ics.ac.uk/events/calendar/fusic-hd---complete-haemodynamic-assessment-with-ultrasound-WEBFUSHD.html
PRIORITY:1
END:VEVENT
END:VCALENDAR