BEGIN:VCALENDAR
PRODID:-//Pixl8//Eventfolio//EN
VERSION:2.0
X-WR-TIMEZONE:Europe/London
CALSCALE:GREGORIAN
METHOD:PUBLISH
CLASS:PUBLIC
BEGIN:VTIMEZONE
TZID:Europe/London
LAST-MODIFIED:20260306T231828Z
TZURL:https://www.tzurl.org/zoneinfo-outlook/Europe/London
X-LIC-LOCATION:Europe/London
BEGIN:DAYLIGHT
TZNAME:BST
TZOFFSETFROM:+0000
TZOFFSETTO:+0100
DTSTART:19700329T010000
RRULE:FREQ=YEARLY;BYMONTH=3;BYDAY=-1SU
END:DAYLIGHT
BEGIN:STANDARD
TZNAME:GMT
TZOFFSETFROM:+0100
TZOFFSETTO:+0000
DTSTART:19701025T020000
RRULE:FREQ=YEARLY;BYMONTH=10;BYDAY=-1SU
END:STANDARD
END:VTIMEZONE
BEGIN:VEVENT
DTSTART;TZID=Europe/London:20260916T090000
DTEND;TZID=Europe/London:20260916T173000
DTSTAMP:20260421T120612Z
UID:{D4EEBE0A-3319-4B77-BCCCA3A73FA99874}
LOCATION:
SUMMARY:FUSIC® Critical Care Ultrasound Online Study Day
DESCRIPTION:This online study day brings together FUSIC faculty to explore advanced applications of point-of-care ultrasound in critical care, alongside updates on FUSIC datasets and best practice in ultrasound training.\n
 \n
 Event details: https://ics.ac.uk/events/calendar/fusic-critical-care-ultrasound-online-study-day.html
PRIORITY:1
END:VEVENT
END:VCALENDAR