BEGIN:VCALENDAR
PRODID:-//Pixl8//Eventfolio//EN
VERSION:2.0
X-WR-TIMEZONE:Europe/London
CALSCALE:GREGORIAN
METHOD:PUBLISH
CLASS:PUBLIC
BEGIN:VTIMEZONE
TZID:Europe/London
LAST-MODIFIED:20260306T231828Z
TZURL:https://www.tzurl.org/zoneinfo-outlook/Europe/London
X-LIC-LOCATION:Europe/London
BEGIN:DAYLIGHT
TZNAME:BST
TZOFFSETFROM:+0000
TZOFFSETTO:+0100
DTSTART:19700329T010000
RRULE:FREQ=YEARLY;BYMONTH=3;BYDAY=-1SU
END:DAYLIGHT
BEGIN:STANDARD
TZNAME:GMT
TZOFFSETFROM:+0100
TZOFFSETTO:+0000
DTSTART:19701025T020000
RRULE:FREQ=YEARLY;BYMONTH=10;BYDAY=-1SU
END:STANDARD
END:VTIMEZONE
BEGIN:VEVENT
DTSTART;TZID=Europe/London;VALUE=DATE:20170223
DTEND;TZID=Europe/London;VALUE=DATE:20170224
DTSTAMP:20260424T023413Z
UID:{C987AC2C-E1A7-437C-AE90E1A73E57FFE3}
LOCATION:Intensive Care Society\, 7-9 Breams Buildings
SUMMARY:Functional Outcomes in Clinical Practice
DESCRIPTION:Join us in exploring Functional Outcomes in Clinical Practice.\n
 \n
 Event details: https://ics.ac.uk/events/calendar/functional-outcomes-in-clinical-practice-SEM2302.html
PRIORITY:1
END:VEVENT
END:VCALENDAR