BEGIN:VCALENDAR
PRODID:-//Pixl8//Eventfolio//EN
VERSION:2.0
X-WR-TIMEZONE:Europe/London
CALSCALE:GREGORIAN
METHOD:PUBLISH
CLASS:PUBLIC
BEGIN:VTIMEZONE
TZID:Europe/London
LAST-MODIFIED:20260306T231828Z
TZURL:https://www.tzurl.org/zoneinfo-outlook/Europe/London
X-LIC-LOCATION:Europe/London
BEGIN:DAYLIGHT
TZNAME:BST
TZOFFSETFROM:+0000
TZOFFSETTO:+0100
DTSTART:19700329T010000
RRULE:FREQ=YEARLY;BYMONTH=3;BYDAY=-1SU
END:DAYLIGHT
BEGIN:STANDARD
TZNAME:GMT
TZOFFSETFROM:+0100
TZOFFSETTO:+0000
DTSTART:19701025T020000
RRULE:FREQ=YEARLY;BYMONTH=10;BYDAY=-1SU
END:STANDARD
END:VTIMEZONE
BEGIN:VEVENT
DTSTART;TZID=Europe/London;VALUE=DATE:20171018
DTEND;TZID=Europe/London;VALUE=DATE:20171019
DTSTAMP:20260423T175621Z
UID:{7DD5C4F8-8848-4FE4-A0E3154915A4AC9F}
LOCATION:Intensive Care Society\, 7-9 Breams Buildings
SUMMARY:Focused Intensive Care Echo Course
DESCRIPTION:FULLY BOOKED A one day echocardiography course designed for trainees and consultants in critical care, emergency medicine and anaesthesia. A combination of interactive tutorials on basic scanning principles and scanning practice in small groups with experienced faculty, including FICE committee members.\n
 \n
 Event details: https://ics.ac.uk/events/calendar/focused-intensive-care-echo-course-FICE181017.html
PRIORITY:1
END:VEVENT
END:VCALENDAR