BEGIN:VCALENDAR
PRODID:-//Pixl8//Eventfolio//EN
VERSION:2.0
X-WR-TIMEZONE:Europe/London
CALSCALE:GREGORIAN
METHOD:PUBLISH
CLASS:PUBLIC
BEGIN:VTIMEZONE
TZID:Europe/London
LAST-MODIFIED:20260306T231828Z
TZURL:https://www.tzurl.org/zoneinfo-outlook/Europe/London
X-LIC-LOCATION:Europe/London
BEGIN:DAYLIGHT
TZNAME:BST
TZOFFSETFROM:+0000
TZOFFSETTO:+0100
DTSTART:19700329T010000
RRULE:FREQ=YEARLY;BYMONTH=3;BYDAY=-1SU
END:DAYLIGHT
BEGIN:STANDARD
TZNAME:GMT
TZOFFSETFROM:+0100
TZOFFSETTO:+0000
DTSTART:19701025T020000
RRULE:FREQ=YEARLY;BYMONTH=10;BYDAY=-1SU
END:STANDARD
END:VTIMEZONE
BEGIN:VEVENT
DTSTART;TZID=Europe/London:20210624T190000
DTEND;TZID=Europe/London:20210624T200000
DTSTAMP:20260423T141232Z
UID:{F70A39F7-44A7-452D-B74AFB8670CE7529}
LOCATION:
SUMMARY:Fire safety & emergency evacuation guidelines webinar
DESCRIPTION:The Intensive Care Society and the Association of Anaesthetists have recently published new guidelines about fire safety and emergency evacuations of Intensive Care Units and operating theatre suites. In this webinar we will discuss these new guidelines, look at the issue of oxygen enrichment of the ambient air in clinical areas where high oxygen flow rates are used and and hear from a clinical psychologist about strategies to help look after frontline staff involved in a fire or similar event. We will then have plenty of time for discussion and questions from the listeners, with a multidisciplinary panel made up of ICU doctors and nurses, healthcare fire experts, oxygen specialists and a clinical psychologist.\n
 \n
 Event details: https://ics.ac.uk/events/calendar/fire-safety--emergency-evacuation-guidelines-webinar-WEBEMERVAC.html
PRIORITY:1
END:VEVENT
END:VCALENDAR