BEGIN:VCALENDAR
PRODID:-//Pixl8//Eventfolio//EN
VERSION:2.0
X-WR-TIMEZONE:Europe/London
CALSCALE:GREGORIAN
METHOD:PUBLISH
CLASS:PUBLIC
BEGIN:VTIMEZONE
TZID:Europe/London
LAST-MODIFIED:20260306T231828Z
TZURL:https://www.tzurl.org/zoneinfo-outlook/Europe/London
X-LIC-LOCATION:Europe/London
BEGIN:DAYLIGHT
TZNAME:BST
TZOFFSETFROM:+0000
TZOFFSETTO:+0100
DTSTART:19700329T010000
RRULE:FREQ=YEARLY;BYMONTH=3;BYDAY=-1SU
END:DAYLIGHT
BEGIN:STANDARD
TZNAME:GMT
TZOFFSETFROM:+0100
TZOFFSETTO:+0000
DTSTART:19701025T020000
RRULE:FREQ=YEARLY;BYMONTH=10;BYDAY=-1SU
END:STANDARD
END:VTIMEZONE
BEGIN:VEVENT
DTSTART;TZID=Europe/London:20190711T090000
DTEND;TZID=Europe/London:20190717T000000
DTSTAMP:20260423T175637Z
UID:{29E96414-027E-4589-99BB75EC0B4C700C}
LOCATION:Intensive Care Society\, 7-9 Breams Buildings
SUMMARY:FICE and CUSIC Combined
DESCRIPTION:Open to all members of the multidisciplinary team working in Intensive Care, our two day course will cover both the Society’s leading ultrasound accreditation programmes. Teaching across both days will be delivered through a blend of lecture based and hands on learning. And our Chairs for FICE, Dr Marcus Peck and CUSIC, Dr Ashley Miller will lead our stellar team of faculty trainers. The course will benefit from a trainer team who represent both FICE and CUSIC committees and are responsible for the design and development of our ultrasound programmes.\n
 \n
 Event details: https://ics.ac.uk/events/calendar/fice-and-cusic-combined-FICECUSI19.html
PRIORITY:1
END:VEVENT
END:VCALENDAR