BEGIN:VCALENDAR
PRODID:-//Pixl8//Eventfolio//EN
VERSION:2.0
X-WR-TIMEZONE:Europe/London
CALSCALE:GREGORIAN
METHOD:PUBLISH
CLASS:PUBLIC
BEGIN:VTIMEZONE
TZID:Europe/London
LAST-MODIFIED:20260306T231828Z
TZURL:https://www.tzurl.org/zoneinfo-outlook/Europe/London
X-LIC-LOCATION:Europe/London
BEGIN:DAYLIGHT
TZNAME:BST
TZOFFSETFROM:+0000
TZOFFSETTO:+0100
DTSTART:19700329T010000
RRULE:FREQ=YEARLY;BYMONTH=3;BYDAY=-1SU
END:DAYLIGHT
BEGIN:STANDARD
TZNAME:GMT
TZOFFSETFROM:+0100
TZOFFSETTO:+0000
DTSTART:19701025T020000
RRULE:FREQ=YEARLY;BYMONTH=10;BYDAY=-1SU
END:STANDARD
END:VTIMEZONE
BEGIN:VEVENT
DTSTART;TZID=Europe/London;VALUE=DATE:20180918
DTEND;TZID=Europe/London;VALUE=DATE:20180919
DTSTAMP:20260423T175601Z
UID:{78892E4B-B8D0-48DE-9C5AD22402A95097}
LOCATION:
SUMMARY:FFICM Prep Day
DESCRIPTION:Realistic exam simulation - Full SOE practice, OSCE stations including simulation and communication. Detailed lectures covering recent guidelines and data interpretation.\n
 \n
 Event details: https://ics.ac.uk/events/calendar/fficm-prep-day-FFICM21809.html
PRIORITY:1
END:VEVENT
END:VCALENDAR