BEGIN:VCALENDAR
PRODID:-//Pixl8//Eventfolio//EN
VERSION:2.0
X-WR-TIMEZONE:Europe/London
CALSCALE:GREGORIAN
METHOD:PUBLISH
CLASS:PUBLIC
BEGIN:VTIMEZONE
TZID:Europe/London
LAST-MODIFIED:20260306T231828Z
TZURL:https://www.tzurl.org/zoneinfo-outlook/Europe/London
X-LIC-LOCATION:Europe/London
BEGIN:DAYLIGHT
TZNAME:BST
TZOFFSETFROM:+0000
TZOFFSETTO:+0100
DTSTART:19700329T010000
RRULE:FREQ=YEARLY;BYMONTH=3;BYDAY=-1SU
END:DAYLIGHT
BEGIN:STANDARD
TZNAME:GMT
TZOFFSETFROM:+0100
TZOFFSETTO:+0000
DTSTART:19701025T020000
RRULE:FREQ=YEARLY;BYMONTH=10;BYDAY=-1SU
END:STANDARD
END:VTIMEZONE
BEGIN:VEVENT
DTSTART;TZID=Europe/London:20180221T090000
DTEND;TZID=Europe/London:20180221T170000
DTSTAMP:20260423T140525Z
UID:{F1E2CBFF-0B75-443B-B0D8433247AE8551}
LOCATION:
SUMMARY:FFICM Prep
DESCRIPTION:Realistic exam simulation - Full SOE practice, OSCE stations including simulation and communication. Detailed lectures covering recent guidelines and data interpretation.\n
 \n
 Event details: https://ics.ac.uk/events/calendar/fficm-prep-FFICMPREP1.html
PRIORITY:1
END:VEVENT
END:VCALENDAR