BEGIN:VCALENDAR
PRODID:-//Pixl8//Eventfolio//EN
VERSION:2.0
X-WR-TIMEZONE:Europe/London
CALSCALE:GREGORIAN
METHOD:PUBLISH
CLASS:PUBLIC
BEGIN:VTIMEZONE
TZID:Europe/London
LAST-MODIFIED:20260306T231828Z
TZURL:https://www.tzurl.org/zoneinfo-outlook/Europe/London
X-LIC-LOCATION:Europe/London
BEGIN:DAYLIGHT
TZNAME:BST
TZOFFSETFROM:+0000
TZOFFSETTO:+0100
DTSTART:19700329T010000
RRULE:FREQ=YEARLY;BYMONTH=3;BYDAY=-1SU
END:DAYLIGHT
BEGIN:STANDARD
TZNAME:GMT
TZOFFSETFROM:+0100
TZOFFSETTO:+0000
DTSTART:19701025T020000
RRULE:FREQ=YEARLY;BYMONTH=10;BYDAY=-1SU
END:STANDARD
END:VTIMEZONE
BEGIN:VEVENT
DTSTART;TZID=Europe/London;VALUE=DATE:20170908
DTEND;TZID=Europe/London;VALUE=DATE:20170909
DTSTAMP:20260423T140844Z
UID:{C894610C-B6F9-47A3-AED6DD8BB58C9A04}
LOCATION:
SUMMARY:FFICM Exam Preparation Course
DESCRIPTION:Comprehensive preparation for the FFICM examination, provided by the examiners themselves.\n
 \n
 Event details: https://ics.ac.uk/events/calendar/fficm-exam-preparation-course-170908FFIC.html
PRIORITY:1
END:VEVENT
END:VCALENDAR