BEGIN:VCALENDAR
PRODID:-//Pixl8//Eventfolio//EN
VERSION:2.0
X-WR-TIMEZONE:Europe/London
CALSCALE:GREGORIAN
METHOD:PUBLISH
CLASS:PUBLIC
BEGIN:VTIMEZONE
TZID:Europe/London
LAST-MODIFIED:20260306T231828Z
TZURL:https://www.tzurl.org/zoneinfo-outlook/Europe/London
X-LIC-LOCATION:Europe/London
BEGIN:DAYLIGHT
TZNAME:BST
TZOFFSETFROM:+0000
TZOFFSETTO:+0100
DTSTART:19700329T010000
RRULE:FREQ=YEARLY;BYMONTH=3;BYDAY=-1SU
END:DAYLIGHT
BEGIN:STANDARD
TZNAME:GMT
TZOFFSETFROM:+0100
TZOFFSETTO:+0000
DTSTART:19701025T020000
RRULE:FREQ=YEARLY;BYMONTH=10;BYDAY=-1SU
END:STANDARD
END:VTIMEZONE
BEGIN:VEVENT
DTSTART;TZID=Europe/London;VALUE=DATE:20170608
DTEND;TZID=Europe/London;VALUE=DATE:20170610
DTSTAMP:20260423T140547Z
UID:{5C115A38-1353-4060-B352EE2478E58713}
LOCATION:
SUMMARY:[External] UKCCRF 2017
DESCRIPTION:The UK Critical Care Research Forum (UKCCRF) was established in 2008 and is open to all who are interested in undertaking research in critical and emergency care in the UK. The main objective of the UKCCRF is to advance the field of critical care research and enhance patient outcome and care, translating knowledge into practice.\n
 \n
 Event details: https://ics.ac.uk/events/calendar/external-ukccrf-2017-UKCCRF17.html
PRIORITY:1
END:VEVENT
END:VCALENDAR