BEGIN:VCALENDAR
PRODID:-//Pixl8//Eventfolio//EN
VERSION:2.0
X-WR-TIMEZONE:Europe/London
CALSCALE:GREGORIAN
METHOD:PUBLISH
CLASS:PUBLIC
BEGIN:VTIMEZONE
TZID:Europe/London
LAST-MODIFIED:20260306T231828Z
TZURL:https://www.tzurl.org/zoneinfo-outlook/Europe/London
X-LIC-LOCATION:Europe/London
BEGIN:DAYLIGHT
TZNAME:BST
TZOFFSETFROM:+0000
TZOFFSETTO:+0100
DTSTART:19700329T010000
RRULE:FREQ=YEARLY;BYMONTH=3;BYDAY=-1SU
END:DAYLIGHT
BEGIN:STANDARD
TZNAME:GMT
TZOFFSETFROM:+0100
TZOFFSETTO:+0000
DTSTART:19701025T020000
RRULE:FREQ=YEARLY;BYMONTH=10;BYDAY=-1SU
END:STANDARD
END:VTIMEZONE
BEGIN:VEVENT
DTSTART;TZID=Europe/London;VALUE=DATE:20170524
DTEND;TZID=Europe/London;VALUE=DATE:20170525
DTSTAMP:20260424T022509Z
UID:{266276F4-F106-468D-A3092C2970E124B8}
LOCATION:
SUMMARY:[External] FICM Annual Meeting - FULLY BOOKED
DESCRIPTION:A day of debate around contentious ethical\n
 \n
 aspects of ICM practice.\n
 \n
 Event details: https://ics.ac.uk/events/calendar/external-ficm-annual-meeting---fully-booked-FICM240517.html
PRIORITY:1
END:VEVENT
END:VCALENDAR