BEGIN:VCALENDAR
PRODID:-//Pixl8//Eventfolio//EN
VERSION:2.0
X-WR-TIMEZONE:Europe/London
CALSCALE:GREGORIAN
METHOD:PUBLISH
CLASS:PUBLIC
BEGIN:VTIMEZONE
TZID:Europe/London
LAST-MODIFIED:20260306T231828Z
TZURL:https://www.tzurl.org/zoneinfo-outlook/Europe/London
X-LIC-LOCATION:Europe/London
BEGIN:DAYLIGHT
TZNAME:BST
TZOFFSETFROM:+0000
TZOFFSETTO:+0100
DTSTART:19700329T010000
RRULE:FREQ=YEARLY;BYMONTH=3;BYDAY=-1SU
END:DAYLIGHT
BEGIN:STANDARD
TZNAME:GMT
TZOFFSETFROM:+0100
TZOFFSETTO:+0000
DTSTART:19701025T020000
RRULE:FREQ=YEARLY;BYMONTH=10;BYDAY=-1SU
END:STANDARD
END:VTIMEZONE
BEGIN:VEVENT
DTSTART;TZID=Europe/London:20171203T090000
DTEND;TZID=Europe/London:20171203T170000
DTSTAMP:20260423T190021Z
UID:{8FB58321-3B0D-4614-980E088E016AC8D1}
LOCATION:
SUMMARY:Extended Fice
DESCRIPTION:Targeted at Clinicians who have already achieved their FICE accreditation and want to progress their clinical teaching skills this course aims to increase understanding of the capabilities and limitations of FICE, promote safe practice and quality assurance  and facilitate expansion of the national FICE training infrastructure.\n
 \n
 Event details: https://ics.ac.uk/events/calendar/extended-fice-FICEE0312.html
PRIORITY:1
END:VEVENT
END:VCALENDAR