BEGIN:VCALENDAR
PRODID:-//Pixl8//Eventfolio//EN
VERSION:2.0
X-WR-TIMEZONE:Europe/London
CALSCALE:GREGORIAN
METHOD:PUBLISH
CLASS:PUBLIC
BEGIN:VTIMEZONE
TZID:Europe/London
LAST-MODIFIED:20260306T231828Z
TZURL:https://www.tzurl.org/zoneinfo-outlook/Europe/London
X-LIC-LOCATION:Europe/London
BEGIN:DAYLIGHT
TZNAME:BST
TZOFFSETFROM:+0000
TZOFFSETTO:+0100
DTSTART:19700329T010000
RRULE:FREQ=YEARLY;BYMONTH=3;BYDAY=-1SU
END:DAYLIGHT
BEGIN:STANDARD
TZNAME:GMT
TZOFFSETFROM:+0100
TZOFFSETTO:+0000
DTSTART:19701025T020000
RRULE:FREQ=YEARLY;BYMONTH=10;BYDAY=-1SU
END:STANDARD
END:VTIMEZONE
BEGIN:VEVENT
DTSTART;TZID=Europe/London;VALUE=DATE:20170612
DTEND;TZID=Europe/London;VALUE=DATE:20170613
DTSTAMP:20260423T140424Z
UID:{80AA1242-2EB5-4582-8B37DC4E3FC196DA}
LOCATION:
SUMMARY:Ethics
DESCRIPTION:Dealing with critically ill patients poses ethical questions such as: who should be admitted, how long treatment should be continued and how decisions on futility are made.  There are also practical issues such as ensuring comfort and dignity in the transition from an intensive, to a palliative phase in treatment.  This seminar, comprising of lectures from recognised experts, local expertise and group discussion, aims to explore some of these issues with delegates drawn from the whole critical care team.\n
 \n
 Event details: https://ics.ac.uk/events/calendar/ethics-ETH12617.html
PRIORITY:1
END:VEVENT
END:VCALENDAR