BEGIN:VCALENDAR
PRODID:-//Pixl8//Eventfolio//EN
VERSION:2.0
X-WR-TIMEZONE:Europe/London
CALSCALE:GREGORIAN
METHOD:PUBLISH
CLASS:PUBLIC
BEGIN:VTIMEZONE
TZID:Europe/London
LAST-MODIFIED:20260306T231828Z
TZURL:https://www.tzurl.org/zoneinfo-outlook/Europe/London
X-LIC-LOCATION:Europe/London
BEGIN:DAYLIGHT
TZNAME:BST
TZOFFSETFROM:+0000
TZOFFSETTO:+0100
DTSTART:19700329T010000
RRULE:FREQ=YEARLY;BYMONTH=3;BYDAY=-1SU
END:DAYLIGHT
BEGIN:STANDARD
TZNAME:GMT
TZOFFSETFROM:+0100
TZOFFSETTO:+0000
DTSTART:19701025T020000
RRULE:FREQ=YEARLY;BYMONTH=10;BYDAY=-1SU
END:STANDARD
END:VTIMEZONE
BEGIN:VEVENT
DTSTART;TZID=Europe/London;VALUE=DATE:20181114
DTEND;TZID=Europe/London;VALUE=DATE:20181115
DTSTAMP:20260423T140424Z
UID:{9412C288-0F1F-4F91-A85C275213185733}
LOCATION:
SUMMARY:EFICE
DESCRIPTION:Targeted at clinicians who have already achieved FICE accreditation and want to progress their skillset, this Extended-FICE course will introduce new views, a deeper understanding of ventricular function, and how Doppler can be used to evaluate valvular disease and haemodynamics. It will enable you extend the number of diagnoses you can make using focused echo, and establish the governance you&#39;ll need to practice safely beyond-FICE.\n
 \n
 Event details: https://ics.ac.uk/events/calendar/efice-EFICE2018.html
PRIORITY:1
END:VEVENT
END:VCALENDAR