BEGIN:VCALENDAR
PRODID:-//Pixl8//Eventfolio//EN
VERSION:2.0
X-WR-TIMEZONE:Europe/London
CALSCALE:GREGORIAN
METHOD:PUBLISH
CLASS:PUBLIC
BEGIN:VTIMEZONE
TZID:Europe/London
LAST-MODIFIED:20260306T231828Z
TZURL:https://www.tzurl.org/zoneinfo-outlook/Europe/London
X-LIC-LOCATION:Europe/London
BEGIN:DAYLIGHT
TZNAME:BST
TZOFFSETFROM:+0000
TZOFFSETTO:+0100
DTSTART:19700329T010000
RRULE:FREQ=YEARLY;BYMONTH=3;BYDAY=-1SU
END:DAYLIGHT
BEGIN:STANDARD
TZNAME:GMT
TZOFFSETFROM:+0100
TZOFFSETTO:+0000
DTSTART:19701025T020000
RRULE:FREQ=YEARLY;BYMONTH=10;BYDAY=-1SU
END:STANDARD
END:VTIMEZONE
BEGIN:VEVENT
DTSTART;TZID=Europe/London;VALUE=DATE:20171115
DTEND;TZID=Europe/London;VALUE=DATE:20171116
DTSTAMP:20260423T175321Z
UID:{F09D344F-51FB-4C22-9D9CC94DBA9AAFCD}
LOCATION:
SUMMARY:ECMO Study Day
DESCRIPTION:One day course covering the basic principles of ECMO, aimed at all healthcare professionals. The course will cover when ECMO is indicated, who benefits from ECMO and when to refer to an ECMO unit. There will be a mixture of lectures given by the faculty from the ECMO team at UHSM NHS Trust, Manchester.\n
 \n
 Event details: https://ics.ac.uk/events/calendar/ecmo-study-day-ECMO17.html
PRIORITY:1
END:VEVENT
END:VCALENDAR