BEGIN:VCALENDAR
PRODID:-//Pixl8//Eventfolio//EN
VERSION:2.0
X-WR-TIMEZONE:Europe/London
CALSCALE:GREGORIAN
METHOD:PUBLISH
CLASS:PUBLIC
BEGIN:VTIMEZONE
TZID:Europe/London
LAST-MODIFIED:20260306T231828Z
TZURL:https://www.tzurl.org/zoneinfo-outlook/Europe/London
X-LIC-LOCATION:Europe/London
BEGIN:DAYLIGHT
TZNAME:BST
TZOFFSETFROM:+0000
TZOFFSETTO:+0100
DTSTART:19700329T010000
RRULE:FREQ=YEARLY;BYMONTH=3;BYDAY=-1SU
END:DAYLIGHT
BEGIN:STANDARD
TZNAME:GMT
TZOFFSETFROM:+0100
TZOFFSETTO:+0000
DTSTART:19701025T020000
RRULE:FREQ=YEARLY;BYMONTH=10;BYDAY=-1SU
END:STANDARD
END:VTIMEZONE
BEGIN:VEVENT
DTSTART;TZID=Europe/London;VALUE=DATE:20180503
DTEND;TZID=Europe/London;VALUE=DATE:20180504
DTSTAMP:20260423T140717Z
UID:{67A9CA5C-B2D6-4839-A1EF6DDE85FE02C4}
LOCATION:
SUMMARY:Cusic: Train the Trainer 2018
DESCRIPTION:An overview of the CUSIC syllabus, recommendations for training and process of assessment. \n
 \n
 \n
 \n
 Faculty: members of the CUSIC committee with considerable experience of training in point of care ultrasound.\n
 \n
 Event details: https://ics.ac.uk/events/calendar/cusic-train-the-trainer-2018-CUSICTRAIN.html
PRIORITY:1
END:VEVENT
END:VCALENDAR