BEGIN:VCALENDAR
PRODID:-//Pixl8//Eventfolio//EN
VERSION:2.0
X-WR-TIMEZONE:Europe/London
CALSCALE:GREGORIAN
METHOD:PUBLISH
CLASS:PUBLIC
BEGIN:VTIMEZONE
TZID:Europe/London
LAST-MODIFIED:20260306T231828Z
TZURL:https://www.tzurl.org/zoneinfo-outlook/Europe/London
X-LIC-LOCATION:Europe/London
BEGIN:DAYLIGHT
TZNAME:BST
TZOFFSETFROM:+0000
TZOFFSETTO:+0100
DTSTART:19700329T010000
RRULE:FREQ=YEARLY;BYMONTH=3;BYDAY=-1SU
END:DAYLIGHT
BEGIN:STANDARD
TZNAME:GMT
TZOFFSETFROM:+0100
TZOFFSETTO:+0000
DTSTART:19701025T020000
RRULE:FREQ=YEARLY;BYMONTH=10;BYDAY=-1SU
END:STANDARD
END:VTIMEZONE
BEGIN:VEVENT
DTSTART;TZID=Europe/London;VALUE=DATE:20170612
DTEND;TZID=Europe/London;VALUE=DATE:20170613
DTSTAMP:20260423T140951Z
UID:{D366262A-40B0-45DC-81950C6060FFF610}
LOCATION:
SUMMARY:CUSIC 'Train The Trainer'
DESCRIPTION:This seminar is aimed at those who already have point of care ultrasound experience and are interested in becoming CUSIC trainers. It is ideal for those who are focussed echocardiography mentors (e.g. FICE) but have no formal training in lung or abdominal ultrasound. \n
 \n
 \n
 \n
 The day will cover the CUSIC lung and abdominal ultrasound syllabus and accreditation process. There will also be practical stations to provide hands on experience of the CUSIC competencies. The seminar will also provide the opportunity to review and discuss ultrasound training with members of the CUSIC committee. Successful completion of the seminar can be used as evidence of appropriate experience in order to become a CUSIC mentor\n
 \n
 Event details: https://ics.ac.uk/events/calendar/cusic-'train-the-trainer'-CUSIC1206.html
PRIORITY:1
END:VEVENT
END:VCALENDAR