BEGIN:VCALENDAR
PRODID:-//Pixl8//Eventfolio//EN
VERSION:2.0
X-WR-TIMEZONE:Europe/London
CALSCALE:GREGORIAN
METHOD:PUBLISH
CLASS:PUBLIC
BEGIN:VTIMEZONE
TZID:Europe/London
LAST-MODIFIED:20260306T231828Z
TZURL:https://www.tzurl.org/zoneinfo-outlook/Europe/London
X-LIC-LOCATION:Europe/London
BEGIN:DAYLIGHT
TZNAME:BST
TZOFFSETFROM:+0000
TZOFFSETTO:+0100
DTSTART:19700329T010000
RRULE:FREQ=YEARLY;BYMONTH=3;BYDAY=-1SU
END:DAYLIGHT
BEGIN:STANDARD
TZNAME:GMT
TZOFFSETFROM:+0100
TZOFFSETTO:+0000
DTSTART:19701025T020000
RRULE:FREQ=YEARLY;BYMONTH=10;BYDAY=-1SU
END:STANDARD
END:VTIMEZONE
BEGIN:VEVENT
DTSTART;TZID=Europe/London:20191002T090000
DTEND;TZID=Europe/London:20191002T170000
DTSTAMP:20260423T111247Z
UID:{C5FA79A2-0E8B-4E12-9EE4839F43C64288}
LOCATION:
SUMMARY:Critical Care Profession Development: The MDT Approach
DESCRIPTION:The Society is excited to offer its first ever Critical Care Professional Development day on 2 October 2019. Following the publication of the&#160;AHP Critical Care Professional Development Framework,&#160;we are bringing the four pillars in which it is based, to life, with talks from representatives from each of the disciplines on how to advance your professional career in critical care. We are also delighted that Chief AHP Officer, Suzanne Rastrick will be joining us.\n
 \n
 Event details: https://ics.ac.uk/events/calendar/critical-care-profession-development-the-mdt-approach-AHP2019.html
PRIORITY:1
END:VEVENT
END:VCALENDAR