BEGIN:VCALENDAR
PRODID:-//Pixl8//Eventfolio//EN
VERSION:2.0
X-WR-TIMEZONE:Europe/London
CALSCALE:GREGORIAN
METHOD:PUBLISH
CLASS:PUBLIC
BEGIN:VTIMEZONE
TZID:Europe/London
LAST-MODIFIED:20260306T231828Z
TZURL:https://www.tzurl.org/zoneinfo-outlook/Europe/London
X-LIC-LOCATION:Europe/London
BEGIN:DAYLIGHT
TZNAME:BST
TZOFFSETFROM:+0000
TZOFFSETTO:+0100
DTSTART:19700329T010000
RRULE:FREQ=YEARLY;BYMONTH=3;BYDAY=-1SU
END:DAYLIGHT
BEGIN:STANDARD
TZNAME:GMT
TZOFFSETFROM:+0100
TZOFFSETTO:+0000
DTSTART:19701025T020000
RRULE:FREQ=YEARLY;BYMONTH=10;BYDAY=-1SU
END:STANDARD
END:VTIMEZONE
BEGIN:VEVENT
DTSTART;TZID=Europe/London;VALUE=DATE:20170616
DTEND;TZID=Europe/London;VALUE=DATE:20170617
DTSTAMP:20260423T175944Z
UID:{CED5F379-88B5-4610-A7D676FA25892595}
LOCATION:Intensive Care Society\, 7-9 Breams Buildings
SUMMARY:Core Topics: Liver/Obstetrics
DESCRIPTION:With liver disease and its complications projected to rise, clinicians from The King&#39;s Liver Unit will provide a comprehensive review of issues impacting on critical care. Topics will include management of acute liver failure; alcoholic hepatitis and the patient with cirrhosis; acute pancreatitis, and the post-hepatectomy patient.\n
 \n
 \n
 \n
 The obstetric session will cover maternal critical care including the causes of maternal mortality and morbidity, acute liver disease in pregnancy, sepsis, pre-eclampsia, postpartum haemorrhage. The lectures will be delivered by an obstetrician, an obstetric physician, an obstetric anaesthetist and intensivist who all have expertise in managing critically ill pregnant or recently delivered women.\n
 \n
 Event details: https://ics.ac.uk/events/calendar/core-topics-liver/obstetrics-CT160617.html
PRIORITY:1
END:VEVENT
END:VCALENDAR