BEGIN:VCALENDAR
PRODID:-//Pixl8//Eventfolio//EN
VERSION:2.0
X-WR-TIMEZONE:Europe/London
CALSCALE:GREGORIAN
METHOD:PUBLISH
CLASS:PUBLIC
BEGIN:VTIMEZONE
TZID:Europe/London
LAST-MODIFIED:20260306T231828Z
TZURL:https://www.tzurl.org/zoneinfo-outlook/Europe/London
X-LIC-LOCATION:Europe/London
BEGIN:DAYLIGHT
TZNAME:BST
TZOFFSETFROM:+0000
TZOFFSETTO:+0100
DTSTART:19700329T010000
RRULE:FREQ=YEARLY;BYMONTH=3;BYDAY=-1SU
END:DAYLIGHT
BEGIN:STANDARD
TZNAME:GMT
TZOFFSETFROM:+0100
TZOFFSETTO:+0000
DTSTART:19701025T020000
RRULE:FREQ=YEARLY;BYMONTH=10;BYDAY=-1SU
END:STANDARD
END:VTIMEZONE
BEGIN:VEVENT
DTSTART;TZID=Europe/London:20210916T123000
DTEND;TZID=Europe/London:20210916T133000
DTSTAMP:20260423T190945Z
UID:{87188055-F2E0-473C-A243A9979CC6C974}
LOCATION:
SUMMARY:Climate Change Urgency and Action: Why we must act
DESCRIPTION:In this session we’ll be setting out some of the reasons we must act on climate change, and act now.\n
 \n
 Event details: https://ics.ac.uk/events/calendar/climate-change-urgency-and-action-why-we-must-act-WEBCC2.html
PRIORITY:1
END:VEVENT
END:VCALENDAR