BEGIN:VCALENDAR
PRODID:-//Pixl8//Eventfolio//EN
VERSION:2.0
X-WR-TIMEZONE:Europe/London
CALSCALE:GREGORIAN
METHOD:PUBLISH
CLASS:PUBLIC
BEGIN:VTIMEZONE
TZID:Europe/London
LAST-MODIFIED:20260306T231828Z
TZURL:https://www.tzurl.org/zoneinfo-outlook/Europe/London
X-LIC-LOCATION:Europe/London
BEGIN:DAYLIGHT
TZNAME:BST
TZOFFSETFROM:+0000
TZOFFSETTO:+0100
DTSTART:19700329T010000
RRULE:FREQ=YEARLY;BYMONTH=3;BYDAY=-1SU
END:DAYLIGHT
BEGIN:STANDARD
TZNAME:GMT
TZOFFSETFROM:+0100
TZOFFSETTO:+0000
DTSTART:19701025T020000
RRULE:FREQ=YEARLY;BYMONTH=10;BYDAY=-1SU
END:STANDARD
END:VTIMEZONE
BEGIN:VEVENT
DTSTART;TZID=Europe/London:20211019T123000
DTEND;TZID=Europe/London:20211019T133000
DTSTAMP:20260423T180027Z
UID:{4CAB722B-8823-4934-BB8FD0818425B796}
LOCATION:
SUMMARY:Climate Change Urgency and Action: Political Impact
DESCRIPTION:Tune in to our panel discussion to hear how we can all help take political action to fight climate change. How can policy and decision makers be influenced to take action on climate change?\n
 \n
 Event details: https://ics.ac.uk/events/calendar/climate-change-urgency-and-action-political-impact-WEBCC7.html
PRIORITY:1
END:VEVENT
END:VCALENDAR