BEGIN:VCALENDAR
PRODID:-//Pixl8//Eventfolio//EN
VERSION:2.0
X-WR-TIMEZONE:Europe/London
CALSCALE:GREGORIAN
METHOD:PUBLISH
CLASS:PUBLIC
BEGIN:VTIMEZONE
TZID:Europe/London
LAST-MODIFIED:20260306T231828Z
TZURL:https://www.tzurl.org/zoneinfo-outlook/Europe/London
X-LIC-LOCATION:Europe/London
BEGIN:DAYLIGHT
TZNAME:BST
TZOFFSETFROM:+0000
TZOFFSETTO:+0100
DTSTART:19700329T010000
RRULE:FREQ=YEARLY;BYMONTH=3;BYDAY=-1SU
END:DAYLIGHT
BEGIN:STANDARD
TZNAME:GMT
TZOFFSETFROM:+0100
TZOFFSETTO:+0000
DTSTART:19701025T020000
RRULE:FREQ=YEARLY;BYMONTH=10;BYDAY=-1SU
END:STANDARD
END:VTIMEZONE
BEGIN:VEVENT
DTSTART;TZID=Europe/London:20210907T123000
DTEND;TZID=Europe/London:20210907T133000
DTSTAMP:20260423T141552Z
UID:{36E25F95-6AB0-4B2E-94EBDD3BE5199C97}
LOCATION:
SUMMARY:Climate Change Urgency and Action: Carbon Literacy
DESCRIPTION:At the first webinar in our Climate Change series, learn more about what climate change is and the effect our reliance on carbon has on the planet.\n
 \n
 Event details: https://ics.ac.uk/events/calendar/climate-change-urgency-and-action-carbon-literacy-WEBCC1.html
PRIORITY:1
END:VEVENT
END:VCALENDAR