BEGIN:VCALENDAR
PRODID:-//Pixl8//Eventfolio//EN
VERSION:2.0
X-WR-TIMEZONE:Europe/London
CALSCALE:GREGORIAN
METHOD:PUBLISH
CLASS:PUBLIC
BEGIN:VTIMEZONE
TZID:Europe/London
LAST-MODIFIED:20260306T231828Z
TZURL:https://www.tzurl.org/zoneinfo-outlook/Europe/London
X-LIC-LOCATION:Europe/London
BEGIN:DAYLIGHT
TZNAME:BST
TZOFFSETFROM:+0000
TZOFFSETTO:+0100
DTSTART:19700329T010000
RRULE:FREQ=YEARLY;BYMONTH=3;BYDAY=-1SU
END:DAYLIGHT
BEGIN:STANDARD
TZNAME:GMT
TZOFFSETFROM:+0100
TZOFFSETTO:+0000
DTSTART:19701025T020000
RRULE:FREQ=YEARLY;BYMONTH=10;BYDAY=-1SU
END:STANDARD
END:VTIMEZONE
BEGIN:VEVENT
DTSTART;TZID=Europe/London:20220608T120000
DTEND;TZID=Europe/London:20220608T130000
DTSTAMP:20260423T180134Z
UID:{AB80FC67-58F3-4633-89D1B8BF18816940}
LOCATION:
SUMMARY:Care after Incidents: Hot “Debriefing” and the TIM Tool
DESCRIPTION:Discussion of the psychological impact of incidents at work, the “debriefing” evidence base, and how to offer a peer response in the immediate and short term aftermath following clinical events at work. Chair: Dr Julie Highfield Speakers: Dr Fiona Kelly, Dr Sara-Catrin Cook\n
 \n
 Event details: https://ics.ac.uk/events/calendar/care-after-incidents-hot-debriefing-and-the-tim-tool-TIM0804.html
PRIORITY:1
END:VEVENT
END:VCALENDAR